BEGIN:VCALENDAR
VERSION:2.0
PRODID:-//Alkotónők Webmagazin - ECPv6.15.20//NONSGML v1.0//EN
CALSCALE:GREGORIAN
METHOD:PUBLISH
X-WR-CALNAME:Alkotónők Webmagazin
X-ORIGINAL-URL:https://alkotonok.hu
X-WR-CALDESC:Események Alkotónők Webmagazin
REFRESH-INTERVAL;VALUE=DURATION:PT1H
X-Robots-Tag:noindex
X-PUBLISHED-TTL:PT1H
BEGIN:VTIMEZONE
TZID:Europe/Helsinki
BEGIN:DAYLIGHT
TZOFFSETFROM:+0200
TZOFFSETTO:+0300
TZNAME:EEST
DTSTART:20250330T010000
END:DAYLIGHT
BEGIN:STANDARD
TZOFFSETFROM:+0300
TZOFFSETTO:+0200
TZNAME:EET
DTSTART:20251026T010000
END:STANDARD
BEGIN:DAYLIGHT
TZOFFSETFROM:+0200
TZOFFSETTO:+0300
TZNAME:EEST
DTSTART:20260329T010000
END:DAYLIGHT
BEGIN:STANDARD
TZOFFSETFROM:+0300
TZOFFSETTO:+0200
TZNAME:EET
DTSTART:20261025T010000
END:STANDARD
BEGIN:DAYLIGHT
TZOFFSETFROM:+0200
TZOFFSETTO:+0300
TZNAME:EEST
DTSTART:20270328T010000
END:DAYLIGHT
BEGIN:STANDARD
TZOFFSETFROM:+0300
TZOFFSETTO:+0200
TZNAME:EET
DTSTART:20271031T010000
END:STANDARD
END:VTIMEZONE
BEGIN:VEVENT
DTSTART;TZID=Europe/Helsinki:20260508T180000
DTEND;TZID=Europe/Helsinki:20260508T210000
DTSTAMP:20260423T151500
CREATED:20260221T143921Z
LAST-MODIFIED:20260221T143921Z
UID:16331-1778263200-1778274000@alkotonok.hu
SUMMARY:TabOrfeum
DESCRIPTION:Orfeum-jellegű\, vacsoraszínházi estekkel bővül a színkör repertoárja és a város kulturális kínálata. Színhelye a Figura Bisztró\, ahol a színház\, a zene és a gasztronómia élménye egyetlen komplex kulturális eseménnyé olvad össze. Az elképzelés egy olyan\, rendszeresen jelentkező programsorozat létrehozása\, amely során a nézők nem csupán passzív szemlélői\, hanem aktív részesei lehetnek az esteknek. \nA gyertyafényes\, intim hangulatú előadások – zenés betétekkel\, könnyedebb jelenetekkel és tematikus estekkel – új közönségréteget szólít meg\, miközben tovább erősíti a közösségi élményt és a helyi kulturális élet sokszínűségét. \nA kezdeményezés hosszú távon lehetőséget teremt a helyi művészeknek és előadóknak\, valamint egy olyan új kulturális találkozóhelyet teremt meg\, amely minden alkalommal egyedi és megismételhetetlen élményt kínál. \n  \nNyitás: Május 8!
URL:https://alkotonok.hu/eloadas/taborfeum/
LOCATION:Figura Bisztró\, Kossuth Lajos utca 51.\, Tab\, Somogy\, 8660\, Hungary
CATEGORIES:Premier
ATTACH;FMTTYPE=image/png:https://alkotonok.hu/wp-content/uploads/2026/02/Szinhaz_fo.png
END:VEVENT
BEGIN:VEVENT
DTSTART;TZID=Europe/Helsinki:20261113T180000
DTEND;TZID=Europe/Helsinki:20261113T200000
DTSTAMP:20260423T151500
CREATED:20250828T091303Z
LAST-MODIFIED:20260329T154559Z
UID:15741-1794592800-1794600000@alkotonok.hu
SUMMARY:Segítség! Már megint megöltem a férjemet! & A babysitter
DESCRIPTION:Két előadás egy este! \nAz első harmincperces vígjátékban a néző a kendőzetlen valósággal találkozik\, ahol mindenki gyanús\, senki sem ártatlan\, és a férjek… hát ők mindig rosszkor kerülnek elő. Nevetés\, félreértések és fekete humor egy felvonásban! \nA babysitter pedig egy vérbő komédia\, egy kacagtató vígjáték\, ahol egy baba és egy kutya keveredésével\, egy csomó félreértéssel szembesülnek mind a szereplők\, mind a nézők.
URL:https://alkotonok.hu/eloadas/segitseg-mar-megint-megoltem-a-ferjemet-a-babysitter/
LOCATION:Komlói Kaptár Művelődési Központ\, 48-as tér 1.\, Komló\, Baranya vármegye\, 7300
CATEGORIES:Repertoár
ATTACH;FMTTYPE=image/jpeg:https://alkotonok.hu/wp-content/uploads/2025/08/Ket_este_Alkotonokre.jpg
END:VEVENT
END:VCALENDAR